BEGIN:VCALENDAR
VERSION:2.0
PRODID:-// - ECPv6.8.1//NONSGML v1.0//EN
CALSCALE:GREGORIAN
METHOD:PUBLISH
X-ORIGINAL-URL:https://rincondeademuz.info
X-WR-CALDESC:Eventos para 
REFRESH-INTERVAL;VALUE=DURATION:PT1H
X-Robots-Tag:noindex
X-PUBLISHED-TTL:PT1H
BEGIN:VTIMEZONE
TZID:Europe/Madrid
BEGIN:DAYLIGHT
TZOFFSETFROM:+0100
TZOFFSETTO:+0200
TZNAME:CEST
DTSTART:20250330T010000
END:DAYLIGHT
BEGIN:STANDARD
TZOFFSETFROM:+0200
TZOFFSETTO:+0100
TZNAME:CET
DTSTART:20251026T010000
END:STANDARD
END:VTIMEZONE
BEGIN:VEVENT
DTSTART;VALUE=DATE:20250719
DTEND;VALUE=DATE:20250720
DTSTAMP:20260423T164537
CREATED:20250617T074818Z
LAST-MODIFIED:20250617T074818Z
UID:29759-1752883200-1752969599@rincondeademuz.info
SUMMARY:I Disco Becerrada Nocturna Ademuz - 19.07.2025
DESCRIPTION:
URL:https://rincondeademuz.info/event/i-disco-becerrada-nocturna-ademuz-19-07-2025/
CATEGORIES:Ademuz,Rincón de Ademuz
ATTACH;FMTTYPE=image/jpeg:https://rincondeademuz.info/wp-content/uploads/2025/06/DISCO-BECERRADA-NOCTURNA-ADEMUZ-19.07.2025.jpg
END:VEVENT
END:VCALENDAR