BEGIN:VCALENDAR
VERSION:2.0
PRODID:-// - ECPv6.8.1//NONSGML v1.0//EN
CALSCALE:GREGORIAN
METHOD:PUBLISH
X-ORIGINAL-URL:https://rincondeademuz.info
X-WR-CALDESC:Eventos para 
REFRESH-INTERVAL;VALUE=DURATION:PT1H
X-Robots-Tag:noindex
X-PUBLISHED-TTL:PT1H
BEGIN:VTIMEZONE
TZID:Europe/Madrid
BEGIN:DAYLIGHT
TZOFFSETFROM:+0100
TZOFFSETTO:+0200
TZNAME:CEST
DTSTART:20250330T010000
END:DAYLIGHT
BEGIN:STANDARD
TZOFFSETFROM:+0200
TZOFFSETTO:+0100
TZNAME:CET
DTSTART:20251026T010000
END:STANDARD
BEGIN:DAYLIGHT
TZOFFSETFROM:+0100
TZOFFSETTO:+0200
TZNAME:CEST
DTSTART:20260329T010000
END:DAYLIGHT
BEGIN:STANDARD
TZOFFSETFROM:+0200
TZOFFSETTO:+0100
TZNAME:CET
DTSTART:20261025T010000
END:STANDARD
END:VTIMEZONE
BEGIN:VEVENT
DTSTART;VALUE=DATE:20250908
DTEND;VALUE=DATE:20251128
DTSTAMP:20260425T003451
CREATED:20250903T122704Z
LAST-MODIFIED:20250903T122704Z
UID:32248-1757289600-1764287999@rincondeademuz.info
SUMMARY:Exposición de pintura y escultura íbera - Del 8 de septiembre al 27 de noviembre -Ademuz
DESCRIPTION:
URL:https://rincondeademuz.info/event/exposicion-de-pintura-y-escultura-ibera-del-8-de-septiembre-al-27-de-noviembre-ademuz/
CATEGORIES:Ademuz,Rincón de Ademuz
ATTACH;FMTTYPE=image/jpeg:https://rincondeademuz.info/wp-content/uploads/2025/09/EXPOSICION-IBEROS-EN-ADEMUZ.jpg
END:VEVENT
BEGIN:VEVENT
DTSTART;VALUE=DATE:20251025
DTEND;VALUE=DATE:20251027
DTSTAMP:20260425T003451
CREATED:20251020T062831Z
LAST-MODIFIED:20251020T063031Z
UID:33353-1761350400-1761523199@rincondeademuz.info
SUMMARY:Día internacional del Paisaje en Castielfabib - 25 y 26 de octubre
DESCRIPTION:Ruta senderista «Las Huellas del Ebrón» 25 oct a las 10:00h\nRuta patrimonial por el casco histórico 25 oct a las 16:30h\nVisita al arte rupestre «Las Lomas de Abril» 26 oct a las 09:30h
URL:https://rincondeademuz.info/event/dia-internacional-del-paisaje-en-castielfabib-25-y-26-de-octubre/
CATEGORIES:Castielfabib,Rincón de Ademuz
ATTACH;FMTTYPE=image/jpeg:https://rincondeademuz.info/wp-content/uploads/2025/10/DIA-INTERNACIONAL-DEL-PAISAJE-25-Y-26-OCTUBRE-CASTIELFABIB.jpg
END:VEVENT
BEGIN:VEVENT
DTSTART;VALUE=DATE:20251026
DTEND;VALUE=DATE:20251027
DTSTAMP:20260425T003451
CREATED:20251014T123811Z
LAST-MODIFIED:20251014T124052Z
UID:33319-1761436800-1761523199@rincondeademuz.info
SUMMARY:BIRDING EN VALLANCA
DESCRIPTION:🪶🦅 Birding en Vallanca \nRuta ornitológica a pie guiada en la que se explicarán las aves que salgan a lo largo del recorrido.\nTambién realizaremos una degustación de productos locales. \n📅 Domingo\, 26 de oct\n🕢 10:00h\n📍 Plaza España\n💶 5€ / participante \nYa puedes apuntarte en las oficinas municipales o llamando al 978782330.
URL:https://rincondeademuz.info/event/birding-en-vallanca/
LOCATION:Plaza España\, Vallanca\, Plaza España\, 8\, Vallanca\, VALENCIA\, 46145
CATEGORIES:Rincón de Ademuz,Vallanca
ATTACH;FMTTYPE=image/png:https://rincondeademuz.info/wp-content/uploads/2025/10/RUTA-BIRDING-VALLANCA.png
END:VEVENT
BEGIN:VEVENT
DTSTART;VALUE=DATE:20251101
DTEND;VALUE=DATE:20251102
DTSTAMP:20260425T003451
CREATED:20251029T135919Z
LAST-MODIFIED:20251029T135919Z
UID:33395-1761955200-1762041599@rincondeademuz.info
SUMMARY:Encuentro con el País-saje "La vida en el Rincón"- Castielfabib- 1 de noviembre
DESCRIPTION:
URL:https://rincondeademuz.info/event/encuentro-con-el-pais-saje-la-vida-en-el-rincon-castielfabib-1-de-noviembre/
CATEGORIES:Castielfabib,Rincón de Ademuz
ATTACH;FMTTYPE=image/jpeg:https://rincondeademuz.info/wp-content/uploads/2025/10/ENCUENTRO-CON-EL-PAIS-SAJE-CASTIELFABIB-1-NOVIEMBRE.jpg
END:VEVENT
BEGIN:VEVENT
DTSTART;VALUE=DATE:20251101
DTEND;VALUE=DATE:20251102
DTSTAMP:20260425T003451
CREATED:20251029T140029Z
LAST-MODIFIED:20251029T140029Z
UID:33398-1761955200-1762041599@rincondeademuz.info
SUMMARY:Halloween en Torrealta- 1 de noviembre
DESCRIPTION:
URL:https://rincondeademuz.info/event/halloween-en-torrealta-1-de-noviembre/
CATEGORIES:Rincón de Ademuz,Torrebaja
ATTACH;FMTTYPE=image/jpeg:https://rincondeademuz.info/wp-content/uploads/2025/10/HALLOWEEN-TORREALTA.-1-DE-NOVIEMBRE.jpg
END:VEVENT
BEGIN:VEVENT
DTSTART;VALUE=DATE:20251101
DTEND;VALUE=DATE:20251103
DTSTAMP:20260425T003451
CREATED:20251015T104035Z
LAST-MODIFIED:20251015T105723Z
UID:33324-1761955200-1762127999@rincondeademuz.info
SUMMARY:El Rincón por dentro\, jornada de puertas abiertas
DESCRIPTION:1 y 2 de noviembre \nEste otoño\, abre las puertas de la historia y descubre la esencia del Rincón de Ademuz. \nMolinos\, ermitas\, casas antiguas y rincones con alma te esperan en Ademuz\, Castielfabib\, Torrebaja\, Casas Altas\, Casas Bajas y Vallanca. \nPasea entre muros que cuentan historias\, siente el rumor del agua en los viejos molinos y déjate llevar por la magia de un territorio único\, donde cada piedra guarda memoria. \nVisitas guiadas y por libreEntrada gratuita. \nProgramación:
URL:https://rincondeademuz.info/event/el-rincon-por-dentro-jornada-de-puertas-abiertas/
CATEGORIES:Rincón de Ademuz
ATTACH;FMTTYPE=image/jpeg:https://rincondeademuz.info/wp-content/uploads/2025/10/Museos-scaled.jpg
END:VEVENT
BEGIN:VEVENT
DTSTART;VALUE=DATE:20251107
DTEND;VALUE=DATE:20251109
DTSTAMP:20260425T003451
CREATED:20251017T123417Z
LAST-MODIFIED:20251017T123539Z
UID:33350-1762473600-1762646399@rincondeademuz.info
SUMMARY:XXIV Raid de Ademuz - 7 y 8 de noviembre de 2025
DESCRIPTION:
URL:https://rincondeademuz.info/event/xxiv-raid-de-ademuz-7-y-8-de-noviembre-de-2025/
CATEGORIES:Ademuz,Rincón de Ademuz
ATTACH;FMTTYPE=image/jpeg:https://rincondeademuz.info/wp-content/uploads/2025/10/RAID-HIPICO-ADEMUZ-7-Y-8-DE-NOVIEMBRE.jpg
END:VEVENT
BEGIN:VEVENT
DTSTART;VALUE=DATE:20251114
DTEND;VALUE=DATE:20251117
DTSTAMP:20260425T003451
CREATED:20250506T080112Z
LAST-MODIFIED:20250612T072947Z
UID:28664-1763078400-1763337599@rincondeademuz.info
SUMMARY:XI FERIA DE LA MANZANA ESPERIEGA del 14 al 16 de NOVIEMBRE de 2025 CASAS ALTAS
DESCRIPTION:
URL:https://rincondeademuz.info/event/xi-feria-de-la-manzana-esperiega-del-14-al-16-de-noviembre-de-2025-casas-altas/
CATEGORIES:Casas Altas,Rincón de Ademuz
ATTACH;FMTTYPE=image/jpeg:https://rincondeademuz.info/wp-content/uploads/2025/05/XI-FERIA-DE-LA-MANZANA-ESPERIEGA-CASAS-ALTAS-14-16-NOV-2025-2-scaled.jpg
END:VEVENT
BEGIN:VEVENT
DTSTART;VALUE=DATE:20251119
DTEND;VALUE=DATE:20251120
DTSTAMP:20260425T003451
CREATED:20251113T124822Z
LAST-MODIFIED:20251113T124822Z
UID:33486-1763510400-1763596799@rincondeademuz.info
SUMMARY:Presentación del libro "La estela del milano negro"- Ademuz- 19 de noviembre
DESCRIPTION:
URL:https://rincondeademuz.info/event/presentacion-del-libro-la-estela-del-milano-negro-ademuz-19-de-noviembre/
CATEGORIES:Ademuz,Rincón de Ademuz
ATTACH;FMTTYPE=image/jpeg:https://rincondeademuz.info/wp-content/uploads/2025/11/PRESENTACION-LIBRO-LA-ESTELA-DEL-MILANO-NEGRO-ADEMUZ-19.11.25.jpg
END:VEVENT
BEGIN:VEVENT
DTSTART;VALUE=DATE:20251122
DTEND;VALUE=DATE:20251123
DTSTAMP:20260425T003451
CREATED:20251104T100208Z
LAST-MODIFIED:20251104T100208Z
UID:33406-1763769600-1763855999@rincondeademuz.info
SUMMARY:Juntas movemos montañas - Paseo entre pinares - Parque Natural Puebla de San Miguel - 22.11.25
DESCRIPTION:«PASEO ENTRE PINARES» \nPaseo entre pinares negrales dentro del Parque Natural de la Puebla de San Miguel \nOs proponemos una sencilla ruta para disfrutar de la naturaleza que esconde este espacio natural. Partiremos desde el Área Recreativa de Don Guillen\, adentrándonos en el Barranco de la Madera hasta coronar el Collado Calderon. Continuamos hacia la Valluenga\, zona de cultivo de cereal\, y el paraje de la Arbalada\, donde podremos admirar algún árbol monumental antes de regresar a nuestro punto de inicio. \nAnímate a sentir y conectar con la naturaleza\, además de aprovecharte de todos los beneficios que el bosque te aporta. \nDatos de la Actividad \nDía: Sábado 22 de noviembre \nHora de Inicio: 10:00 h. \nLugar de Inicio: Área Recreativa de Don Guillen (CV-363 a 3 Km del casco urbano de Puebla de San Miguel dirección Losilla de Aras) \nDuración: Ruta circular de 7 Km (250 metros de desnivel) \nAvisos: Plazas limitadas\, inscripción previa necesaria (660127491\, parque_puebladesanmiguel@gva.es) \nRecomendaciones: Traer almuerzo\, agua y calzado de montaña.
URL:https://rincondeademuz.info/event/juntas-movemos-montanas-paseo-entre-pinares-parque-natural-puebla-de-san-miguel-22-11-25/
CATEGORIES:Puebla de San Miguel,Rincón de Ademuz
ATTACH;FMTTYPE=image/png:https://rincondeademuz.info/wp-content/uploads/2025/11/PARQUE-NATURAL-PUEBLA-DE-SAN-MIGUEL.-22.11.25.png
END:VEVENT
BEGIN:VEVENT
DTSTART;VALUE=DATE:20251122
DTEND;VALUE=DATE:20251123
DTSTAMP:20260425T003451
CREATED:20251113T123057Z
LAST-MODIFIED:20251113T123057Z
UID:33473-1763769600-1763855999@rincondeademuz.info
SUMMARY:Santa Cecilia - Sociedad Musical de Ademuz - 22 de noviembre
DESCRIPTION:
URL:https://rincondeademuz.info/event/santa-cecilia-sociedad-musical-de-ademuz-22-de-noviembre/
CATEGORIES:Ademuz,Rincón de Ademuz
ATTACH;FMTTYPE=image/jpeg:https://rincondeademuz.info/wp-content/uploads/2025/11/PROGRAMA-SOCIEDAD-MUSICAL.jpg
END:VEVENT
BEGIN:VEVENT
DTSTART;VALUE=DATE:20251123
DTEND;VALUE=DATE:20251124
DTSTAMP:20260425T003451
CREATED:20251104T100418Z
LAST-MODIFIED:20251104T100418Z
UID:33409-1763856000-1763942399@rincondeademuz.info
SUMMARY:Birding por el interior -Castielfabib - 23 de noviembre
DESCRIPTION:
URL:https://rincondeademuz.info/event/birding-por-el-interior-castielfabib-23-de-noviembre/
CATEGORIES:Castielfabib,Rincón de Ademuz
ATTACH;FMTTYPE=image/jpeg:https://rincondeademuz.info/wp-content/uploads/2025/11/BIRDING-NOVIEMBRE.jpg
END:VEVENT
BEGIN:VEVENT
DTSTART;VALUE=DATE:20251129
DTEND;VALUE=DATE:20251130
DTSTAMP:20260425T003451
CREATED:20251113T123351Z
LAST-MODIFIED:20251126T131800Z
UID:33476-1764374400-1764460799@rincondeademuz.info
SUMMARY:Encuentro musical juvenil "Castielmusic"- Castielfabib- 29 de noviembre
DESCRIPTION:
URL:https://rincondeademuz.info/event/encuentro-musical-juvenil-castielmusic-castielfabib-29-de-noviembre/
CATEGORIES:Castielfabib,Rincón de Ademuz
ATTACH;FMTTYPE=image/jpeg:https://rincondeademuz.info/wp-content/uploads/2025/11/CASTIEL-MUSIC-29.12.25.jpg
END:VEVENT
BEGIN:VEVENT
DTSTART;VALUE=DATE:20251201
DTEND;VALUE=DATE:20260103
DTSTAMP:20260425T003452
CREATED:20251203T071935Z
LAST-MODIFIED:20251203T071935Z
UID:33604-1764547200-1767398399@rincondeademuz.info
SUMMARY:Actividades navideñas en la ludoteca de Torrebaja - Del 1 de diciembre al 2 de enero
DESCRIPTION:
URL:https://rincondeademuz.info/event/actividades-navidenas-en-la-ludoteca-de-torrebaja-del-1-de-diciembre-al-2-de-enero/
CATEGORIES:Rincón de Ademuz,Torrebaja
ATTACH;FMTTYPE=image/jpeg:https://rincondeademuz.info/wp-content/uploads/2025/12/ACTIVIDADES-NAVIDENAS-LUDOTECA-DE-TORREBAJA-.jpg
END:VEVENT
BEGIN:VEVENT
DTSTART;VALUE=DATE:20251201
DTEND;VALUE=DATE:20260106
DTSTAMP:20260425T003452
CREATED:20251203T072912Z
LAST-MODIFIED:20251203T072912Z
UID:33607-1764547200-1767657599@rincondeademuz.info
SUMMARY:Programación Navidad Torrebaja - Del 1 de diciembre al 5 de enero
DESCRIPTION:
URL:https://rincondeademuz.info/event/programacion-navidad-torrebaja-del-1-de-diciembre-al-5-de-enero/
CATEGORIES:Rincón de Ademuz,Torrebaja
ATTACH;FMTTYPE=image/jpeg:https://rincondeademuz.info/wp-content/uploads/2025/12/PROGRAMACION-NAVIDAD-TORREBAJA-Y-TORREALTA-.jpg
END:VEVENT
BEGIN:VEVENT
DTSTART;VALUE=DATE:20251206
DTEND;VALUE=DATE:20251207
DTSTAMP:20260425T003452
CREATED:20251120T101338Z
LAST-MODIFIED:20251120T101338Z
UID:33498-1764979200-1765065599@rincondeademuz.info
SUMMARY:Fiesta del Pan y la Caridad en Mas del Olmo- 6 de diciembre
DESCRIPTION:Fiesta del Pan de la Caridad de Santa Bárbara \n📍Mas del Olmo\n🗓️Sábado\, 6 de diciembre. \nProgramación: \n12:00 h – Misa de Santa Bárbara.\nAl finalizar\, los caridaderos repartirán el pan y se realizará un convite en el horno. \n14:30 h – Comida popular en el local social.\nMenú: puchero\, pan\, consumición\, fruta y café.\nPrecio aproximado: 15 €. \n17:30–21:00 h – Dúo musical.\nPor la noche – Cena de «sobaquillo» y música de los años 80.
URL:https://rincondeademuz.info/event/fiesta-del-pan-y-la-caridad-en-mas-del-olmo-6-de-diciembre/
CATEGORIES:Ademuz,Rincón de Ademuz
ATTACH;FMTTYPE=image/png:https://rincondeademuz.info/wp-content/uploads/2025/11/Fiesta-del-Pan-y-Caridad-6-dic-Mas-del-Olmo.png
END:VEVENT
BEGIN:VEVENT
DTSTART;VALUE=DATE:20251206
DTEND;VALUE=DATE:20251207
DTSTAMP:20260425T003452
CREATED:20251126T134100Z
LAST-MODIFIED:20251126T134100Z
UID:33531-1764979200-1765065599@rincondeademuz.info
SUMMARY:Enciende la Navidad en Casas Bajas - 6 de diciembre
DESCRIPTION:
URL:https://rincondeademuz.info/event/enciende-la-navidad-en-casas-bajas-6-de-diciembre/
CATEGORIES:Casas Bajas,Rincón de Ademuz
ATTACH;FMTTYPE=image/jpeg:https://rincondeademuz.info/wp-content/uploads/2025/11/ENCIENDE-LA-NAVIDAD-EN-CASAS-BAJAS-6.12.25.jpg
END:VEVENT
BEGIN:VEVENT
DTSTART;VALUE=DATE:20251206
DTEND;VALUE=DATE:20260106
DTSTAMP:20260425T003452
CREATED:20251126T133757Z
LAST-MODIFIED:20251126T133757Z
UID:33527-1764979200-1767657599@rincondeademuz.info
SUMMARY:Navidad en Ademuz -  Del 6 de diciembre al 5 de enero
DESCRIPTION:
URL:https://rincondeademuz.info/event/navidad-en-ademuz-del-6-de-diciembre-al-5-de-enero/
CATEGORIES:Ademuz,Rincón de Ademuz
ATTACH;FMTTYPE=image/jpeg:https://rincondeademuz.info/wp-content/uploads/2025/11/NAVIDAD-EN-ADEMUZ-RRSS.jpg
END:VEVENT
BEGIN:VEVENT
DTSTART;VALUE=DATE:20251207
DTEND;VALUE=DATE:20251208
DTSTAMP:20260425T003452
CREATED:20251126T134256Z
LAST-MODIFIED:20251126T134256Z
UID:33534-1765065600-1765151999@rincondeademuz.info
SUMMARY:Fiesta en Torrebaja Puente de Diciembre - 7 de diciembre
DESCRIPTION:
URL:https://rincondeademuz.info/event/fiesta-en-torrebaja-puente-de-diciembre-7-de-diciembre/
CATEGORIES:Rincón de Ademuz,Torrebaja
ATTACH;FMTTYPE=image/jpeg:https://rincondeademuz.info/wp-content/uploads/2025/11/FIESTAS-TORREBAJA-PUENTE-DE-DICIEMBRE-7.12.25.jpg
END:VEVENT
BEGIN:VEVENT
DTSTART;VALUE=DATE:20251207
DTEND;VALUE=DATE:20251208
DTSTAMP:20260425T003452
CREATED:20251126T134837Z
LAST-MODIFIED:20251203T071321Z
UID:33540-1765065600-1765151999@rincondeademuz.info
SUMMARY:Castielfabib 1210...revive la historia - 7 de diciembre
DESCRIPTION:Castielfabib 1210… Revive la Historia… \nEl próximo día 7 de diciembre Castielfabib regresa al año 1210\, recreando los momentos previos a la entrada cristiana de Pedro II \, con una visita por la alquería islámica  a través de diversas escenas teatrales .\nPor la tarde el Rey Pedro entrará en la Villa  y se celebrarán las Cortes Generales.\nDurante todo el día tendremos la taberna abierta\, a medio día opción de comer  y por la noche de cenar  al abrigo de la hoguera  de la Purísima.\n¡No te lo pierdas!
URL:https://rincondeademuz.info/event/castielfabib-1210-revive-la-historia-7-de-diciembre/
CATEGORIES:Castielfabib,Rincón de Ademuz
ATTACH;FMTTYPE=image/jpeg:https://rincondeademuz.info/wp-content/uploads/2025/11/CASTIELFABIB-1210-7.12.2025.jpg
END:VEVENT
BEGIN:VEVENT
DTSTART;VALUE=DATE:20251208
DTEND;VALUE=DATE:20251209
DTSTAMP:20260425T003452
CREATED:20251126T134450Z
LAST-MODIFIED:20251126T134450Z
UID:33537-1765152000-1765238399@rincondeademuz.info
SUMMARY:Encendido del árbol en Vallanca - 8 de diciembre
DESCRIPTION:
URL:https://rincondeademuz.info/event/encendido-del-arbol-en-vallanca-8-de-diciembre/
CATEGORIES:Rincón de Ademuz,Vallanca
ATTACH;FMTTYPE=image/jpeg:https://rincondeademuz.info/wp-content/uploads/2025/11/ENCENDIDO-DEL-ARBOL-EN-VALLANCA-8.12.25.jpg
END:VEVENT
BEGIN:VEVENT
DTSTART;VALUE=DATE:20251213
DTEND;VALUE=DATE:20251215
DTSTAMP:20260425T003452
CREATED:20251120T101606Z
LAST-MODIFIED:20251120T101606Z
UID:33501-1765584000-1765756799@rincondeademuz.info
SUMMARY:Santa Lucía en Los Santos (Castielfabib) - 13 y 14 de diciembre
DESCRIPTION:
URL:https://rincondeademuz.info/event/santa-lucia-en-los-santos-castielfabib-13-y-14-de-diciembre/
CATEGORIES:Castielfabib,Rincón de Ademuz
ATTACH;FMTTYPE=image/jpeg:https://rincondeademuz.info/wp-content/uploads/2025/11/SANTA-LUCIA-LOS-SANTOS.13.12.25.jpg
END:VEVENT
BEGIN:VEVENT
DTSTART;VALUE=DATE:20251220
DTEND;VALUE=DATE:20251221
DTSTAMP:20260425T003452
CREATED:20251202T135148Z
LAST-MODIFIED:20251202T135148Z
UID:33589-1766188800-1766275199@rincondeademuz.info
SUMMARY:Mercadillo de Navidad. Ropa y juguetes de segunda mano - 20 de diciembre
DESCRIPTION:¡Vuelve el Mercadillo Navideño de Intercambio de Ropa y Juguetes! \nUna mañana para compartir\, reutilizar y dar nueva vida a lo que ya no usas.\n📍 Sábado 20 de diciembre\n🕦 A partir de las 11:30 h\n📌 Plaza Elvira Lindo (Ademuz) \nVen a intercambiar ropa y juguetes\nDisfruta de las actividades infantiles\nY si te apetece colaborar\, ¡te necesitamos! Escríbenos al 638 470 140.\nPorque cada gesto cuenta y juntas hacemos posible este encuentro.
URL:https://rincondeademuz.info/event/mercadillo-de-navidad-ropa-y-juguetes-de-segunda-mano-20-de-diciembre/
CATEGORIES:Ademuz,Rincón de Ademuz
ATTACH;FMTTYPE=image/jpeg:https://rincondeademuz.info/wp-content/uploads/2025/12/20.12.2025-MERCADILLO-NAVIDAD-DE-SEGUNDA-MANO-ADEMUZ.jpg
END:VEVENT
BEGIN:VEVENT
DTSTART;VALUE=DATE:20260116
DTEND;VALUE=DATE:20260119
DTSTAMP:20260425T003452
CREATED:20260112T134132Z
LAST-MODIFIED:20260112T134132Z
UID:33631-1768521600-1768780799@rincondeademuz.info
SUMMARY:Hogueras de San Antón en Vallanca - Del 16 al 18 de enero de 2026
DESCRIPTION:
URL:https://rincondeademuz.info/event/hogueras-de-san-anton-en-vallanca-del-16-al-18-de-enero-de-2026/
CATEGORIES:Rincón de Ademuz,Vallanca
ATTACH;FMTTYPE=image/jpeg:https://rincondeademuz.info/wp-content/uploads/2026/01/16-18-ENERO-SAN-ANTON-EN-VALLANCA.jpeg
END:VEVENT
BEGIN:VEVENT
DTSTART;VALUE=DATE:20260116
DTEND;VALUE=DATE:20260119
DTSTAMP:20260425T003452
CREATED:20260112T134527Z
LAST-MODIFIED:20260112T134527Z
UID:33634-1768521600-1768780799@rincondeademuz.info
SUMMARY:Hogueras de  San Antón en Casas Bajas - Del 16 al 18 de enero de 2026
DESCRIPTION:DECLARADA FIESTA DE INTERÉS TURÍSTICO PROVINCIAL DE LA COMUNIDAD VALENCIANA
URL:https://rincondeademuz.info/event/hogueras-de-san-anton-en-casas-bajas-del-16-al-18-de-enero-de-2026/
CATEGORIES:Casas Bajas,Rincón de Ademuz
ATTACH;FMTTYPE=image/jpeg:https://rincondeademuz.info/wp-content/uploads/2026/01/16-18-enero-san-anton-en-Casas-Bajas.jpg
END:VEVENT
BEGIN:VEVENT
DTSTART;VALUE=DATE:20260117
DTEND;VALUE=DATE:20260119
DTSTAMP:20260425T003452
CREATED:20260113T110659Z
LAST-MODIFIED:20260114T073214Z
UID:33644-1768608000-1768780799@rincondeademuz.info
SUMMARY:Hogueras de San Antón en Torrebaja - 17 y 18 de Enero de 2026
DESCRIPTION:
URL:https://rincondeademuz.info/event/hogueras-de-san-anton-en-torrebaja-17-y-18-de-enero-de-2026/
CATEGORIES:Rincón de Ademuz,Torrebaja
ATTACH;FMTTYPE=image/jpeg:https://rincondeademuz.info/wp-content/uploads/2026/01/17-18-enero-San-Anton-en-Torrebaja-1.jpg
END:VEVENT
BEGIN:VEVENT
DTSTART;VALUE=DATE:20260124
DTEND;VALUE=DATE:20260125
DTSTAMP:20260425T003452
CREATED:20260112T135149Z
LAST-MODIFIED:20260112T135149Z
UID:33638-1769212800-1769299199@rincondeademuz.info
SUMMARY:Actividad por el Día del Árbol "Historia natural: Sabina Murciana"- 24 de enero de 2026 - Parque Natural Puebla de San Miguel
DESCRIPTION:El 31 de enero es el día del árbol y\, para celebrarlo\, os proponemos durante este mes dos rutas interpretativas en las que conoceremos dos de los árboles monumentales más majestuosos que tenemos. En esta ocasión os invitamos a conocer la Sabina Murciana. \nLa sabina albar\, especie relicta de los bosques esteparios pre-glaciares del terciario\, es la especie de flora más emblemática del Parque Natural. Durante esta actividad os contaremos más sobre ella y conoceréis características y singularidades de este árbol y de nuestro territorio. \nOs proponemos una ruta interpretativa para descubrir curiosidades de estos ejemplares y visitar la sabina de la Murciana\, una de las más longevas del territorio. Conoceremos también que trabajos de conservación se realizan sobre estos ejemplares y descubriremos su importancia en el paisaje vegetal desde hace miles de años. \n  \nDatos de la Actividad \n\nDía: 24 de Enero.\nHora de Inicio: 10:30 h.\nLugar de Inicio: Plaza de Puebla de San Miguel.\nDuración: Ruta circular de 4\,5 Km.\n\nAvisos: Plazas limitadas\, inscripción previa necesaria (660127491\, parque_puebladesanmiguel@gva.es). \nRecomendaciones: Traer almuerzo\, agua\, calzado de montaña y ropa de abrigo.
URL:https://rincondeademuz.info/event/actividad-por-el-dia-del-arbol-historia-natural-sabina-murciana-24-de-enero-de-2026-parque-natural-puebla-de-san-miguel/
CATEGORIES:Puebla de San Miguel,Rincón de Ademuz
ATTACH;FMTTYPE=image/png:https://rincondeademuz.info/wp-content/uploads/2026/01/24.01.26-Dia-del-arbol-sabina-murciana-Parque-Natural-Puebla.png
END:VEVENT
BEGIN:VEVENT
DTSTART;VALUE=DATE:20260131
DTEND;VALUE=DATE:20260201
DTSTAMP:20260425T003452
CREATED:20260112T135511Z
LAST-MODIFIED:20260112T135511Z
UID:33641-1769817600-1769903999@rincondeademuz.info
SUMMARY:Actividad por el Día del Árbol: Historia Viva: Sabina de los Responsos - 31 de enero de 2026 - Parque Natural Puebla de San Miguel
DESCRIPTION:El 31 de enero es el día del árbol y\, para celebrarlo\, os proponemos durante este mes dos rutas interpretativas en las que conoceremos dos de los árboles monumentales más majestuosos que tenemos en el parque natural. Para esta ocasión os invitamos a conocer la Sabina de los Responsos. \nPuebla de San Miguel destaca por su gran patrimonio arbóreo\, con cientos de árboles catalogados como monumentales. Tenemos muchos árboles de gran singularidad\, entre los que destacan las sabinas por su antigüedad. La Sabina de los Responsos es muy querida por la población ya que ha acompañado\, durante generaciones\, a los peregrinos en su camino de la Romería de Santa Quitería. \nAnímate a conocer uno de los árboles monumentales del parque\, con casi 1000 años de antigüedad\, además de recorrer un bosque de pino negral y observar las huellas del pasado. \nDatos de la Actividad \n\nDía: 31 de Enero.\nHora de Inicio: 10:30 h.\nLugar de Inicio: Zona de Acampada de Don Guillén.\nDuración: 3 horas aproximadamente.\n\nAvisos: Plazas limitadas\, inscripción previa necesaria (660127491\, parque_puebladesanmiguel@gva.es). \nRecomendaciones: Traer almuerzo\, agua\, calzado de montaña y ropa de abrigo.
URL:https://rincondeademuz.info/event/actividad-por-el-dia-del-arbol-historia-viva-sabina-de-los-responsos-31-de-enero-de-2026-parque-natural-puebla-de-san-miguel/
CATEGORIES:Puebla de San Miguel,Rincón de Ademuz
ATTACH;FMTTYPE=image/png:https://rincondeademuz.info/wp-content/uploads/2026/01/31.01.26-dia-del-arbol-parque-natural-puebla-de-San-miguel.png
END:VEVENT
BEGIN:VEVENT
DTSTART;VALUE=DATE:20260210
DTEND;VALUE=DATE:20260211
DTSTAMP:20260425T003452
CREATED:20260130T124421Z
LAST-MODIFIED:20260130T124421Z
UID:33659-1770681600-1770767999@rincondeademuz.info
SUMMARY:San Guillermo en Castielfabib - 10 de febrero de 2026
DESCRIPTION:
URL:https://rincondeademuz.info/event/san-guillermo-en-castielfabib-10-de-febrero-de-2026/
CATEGORIES:Castielfabib,Rincón de Ademuz
ATTACH;FMTTYPE=image/jpeg:https://rincondeademuz.info/wp-content/uploads/2026/01/SAN-GUILLERMO-CASTIELFABIB.jpg
END:VEVENT
BEGIN:VEVENT
DTSTART;VALUE=DATE:20260214
DTEND;VALUE=DATE:20260215
DTSTAMP:20260425T003452
CREATED:20260130T123805Z
LAST-MODIFIED:20260130T123805Z
UID:33653-1771027200-1771113599@rincondeademuz.info
SUMMARY:Carnaval en Torrebaja - 14 de febrero de 2026
DESCRIPTION:
URL:https://rincondeademuz.info/event/carnaval-en-torrebaja-14-de-febrero-de-2026/
CATEGORIES:Rincón de Ademuz,Torrebaja
ATTACH;FMTTYPE=image/jpeg:https://rincondeademuz.info/wp-content/uploads/2026/01/14.02-CARNAVAL-EN-TORREBAJA.jpg
END:VEVENT
END:VCALENDAR