BEGIN:VCALENDAR
VERSION:2.0
PRODID:-// - ECPv6.8.1//NONSGML v1.0//EN
CALSCALE:GREGORIAN
METHOD:PUBLISH
X-ORIGINAL-URL:https://rincondeademuz.info
X-WR-CALDESC:Eventos para 
REFRESH-INTERVAL;VALUE=DURATION:PT1H
X-Robots-Tag:noindex
X-PUBLISHED-TTL:PT1H
BEGIN:VTIMEZONE
TZID:Europe/Madrid
BEGIN:DAYLIGHT
TZOFFSETFROM:+0100
TZOFFSETTO:+0200
TZNAME:CEST
DTSTART:20250330T010000
END:DAYLIGHT
BEGIN:STANDARD
TZOFFSETFROM:+0200
TZOFFSETTO:+0100
TZNAME:CET
DTSTART:20251026T010000
END:STANDARD
END:VTIMEZONE
BEGIN:VEVENT
DTSTART;VALUE=DATE:20250628
DTEND;VALUE=DATE:20250721
DTSTAMP:20260421T102230
CREATED:20250321T132320Z
LAST-MODIFIED:20250714T115431Z
UID:28213-1751068800-1753055999@rincondeademuz.info
SUMMARY:FLORACIÓN DE LA LAVANDA EN ADEMUZ- JULIO DE 2025
DESCRIPTION:VISITAS GUIADAS A LOS CAMPOS DE LAVANDA( AFORO COMPLETO PARA TODOS LOS DÍAS ) \nJORNADAS GASTRONÓMICAS\, \nMERCADO FLORACIÓN DE LA LAVANDA DURANTE LOS DÍAS 4\, 5 Y 6 DE JULIO\, \nANIMACIONES Y ESPECTÁCULOS. \nConsulta toda la información aquí: https://ademuzconlos5sentidos.com/floracion-lavanda-2025/ \n 
URL:https://rincondeademuz.info/event/floracion-de-la-lavanda-en-ademuz-julio-de-2025/
CATEGORIES:Ademuz,Rincón de Ademuz
ATTACH;FMTTYPE=image/jpeg:https://rincondeademuz.info/wp-content/uploads/2025/03/Floracion-lavanda-Ademuz-2025-1.jpg
END:VEVENT
BEGIN:VEVENT
DTSTART;VALUE=DATE:20250713
DTEND;VALUE=DATE:20250714
DTSTAMP:20260421T102230
CREATED:20250617T075245Z
LAST-MODIFIED:20250617T075245Z
UID:29765-1752364800-1752451199@rincondeademuz.info
SUMMARY:Marcha Run Cáncer en Ademuz -13.07.2025
DESCRIPTION:
URL:https://rincondeademuz.info/event/marcha-run-cancer-en-ademuz-13-07-2025/
CATEGORIES:Ademuz,Rincón de Ademuz
ATTACH;FMTTYPE=image/jpeg:https://rincondeademuz.info/wp-content/uploads/2025/06/MARCHA-RUN-CANCER-ADEMUZ-13.07.2025.jpg
END:VEVENT
BEGIN:VEVENT
DTSTART;VALUE=DATE:20250718
DTEND;VALUE=DATE:20250719
DTSTAMP:20260421T102230
CREATED:20250711T082751Z
LAST-MODIFIED:20250711T082751Z
UID:31005-1752796800-1752883199@rincondeademuz.info
SUMMARY:Ruta de las plantas medicinales -18.07.25 -Ademuz
DESCRIPTION:
URL:https://rincondeademuz.info/event/ruta-de-las-plantas-medicinales-18-07-25-ademuz/
CATEGORIES:Ademuz,Rincón de Ademuz
ATTACH;FMTTYPE=image/jpeg:https://rincondeademuz.info/wp-content/uploads/2025/07/RUTA-DE-LAS-PLANTAS-MEDICINALES-18.07.25-ADEMUZ.jpg
END:VEVENT
BEGIN:VEVENT
DTSTART;VALUE=DATE:20250718
DTEND;VALUE=DATE:20250727
DTSTAMP:20260421T102230
CREATED:20250626T084705Z
LAST-MODIFIED:20250626T084705Z
UID:30821-1752796800-1753574399@rincondeademuz.info
SUMMARY:Fiestas en Torrealta en honor a San Joaquín y Santa Ana + Semana Cultural 18-26 de julio
DESCRIPTION:
URL:https://rincondeademuz.info/event/fiestas-en-torrealta-en-honor-a-san-joaquin-y-santa-ana-semana-cultural-18-26-de-julio/
CATEGORIES:Rincón de Ademuz,Torrebaja
ATTACH;FMTTYPE=image/jpeg:https://rincondeademuz.info/wp-content/uploads/2025/06/FIESTAS-TORREALTA-18-26-.07.2025.jpg
END:VEVENT
BEGIN:VEVENT
DTSTART;VALUE=DATE:20250719
DTEND;VALUE=DATE:20250720
DTSTAMP:20260421T102230
CREATED:20250617T074818Z
LAST-MODIFIED:20250617T074818Z
UID:29759-1752883200-1752969599@rincondeademuz.info
SUMMARY:I Disco Becerrada Nocturna Ademuz - 19.07.2025
DESCRIPTION:
URL:https://rincondeademuz.info/event/i-disco-becerrada-nocturna-ademuz-19-07-2025/
CATEGORIES:Ademuz,Rincón de Ademuz
ATTACH;FMTTYPE=image/jpeg:https://rincondeademuz.info/wp-content/uploads/2025/06/DISCO-BECERRADA-NOCTURNA-ADEMUZ-19.07.2025.jpg
END:VEVENT
BEGIN:VEVENT
DTSTART;VALUE=DATE:20250719
DTEND;VALUE=DATE:20250720
DTSTAMP:20260421T102230
CREATED:20250617T075003Z
LAST-MODIFIED:20250617T075003Z
UID:29762-1752883200-1752969599@rincondeademuz.info
SUMMARY:II Peña Rubia Sound en Casas Bajas - 19.07.2025
DESCRIPTION:
URL:https://rincondeademuz.info/event/ii-pena-rubia-sound-en-casas-bajas-19-07-2025/
CATEGORIES:Casas Bajas,Rincón de Ademuz
ATTACH;FMTTYPE=image/jpeg:https://rincondeademuz.info/wp-content/uploads/2025/06/II-PENA-RUBIA-SOUND-CASAS-BAJAS-19.07.2025.jpg
END:VEVENT
BEGIN:VEVENT
DTSTART;VALUE=DATE:20250721
DTEND;VALUE=DATE:20250728
DTSTAMP:20260421T102230
CREATED:20250626T084936Z
LAST-MODIFIED:20250626T085004Z
UID:30824-1753056000-1753660799@rincondeademuz.info
SUMMARY:Semana Cultural de Torrebaja - Del 21 al 27 de julio
DESCRIPTION:
URL:https://rincondeademuz.info/event/semana-cultural-el-torrebaja-del-21-al-27-de-julio/
CATEGORIES:Rincón de Ademuz,Torrebaja
ATTACH;FMTTYPE=image/jpeg:https://rincondeademuz.info/wp-content/uploads/2025/06/SEMANA-CULTURAL-TORREBAJA-21-27-JULIO.jpg
END:VEVENT
BEGIN:VEVENT
DTSTART;VALUE=DATE:20250724
DTEND;VALUE=DATE:20250728
DTSTAMP:20260421T102230
CREATED:20250617T075657Z
LAST-MODIFIED:20250617T075657Z
UID:29769-1753315200-1753660799@rincondeademuz.info
SUMMARY:Semana Cultural de Casas Bajas -Del 24 al 27 de Julio de 2025
DESCRIPTION:
URL:https://rincondeademuz.info/event/semana-cultural-de-casas-bajas-del-24-al-27-de-julio-de-2025/
CATEGORIES:Casas Bajas,Rincón de Ademuz
ATTACH;FMTTYPE=image/jpeg:https://rincondeademuz.info/wp-content/uploads/2025/06/SEMANA-CULTURAL-CASAS-BAJAS.jpg
END:VEVENT
BEGIN:VEVENT
DTSTART;VALUE=DATE:20250725
DTEND;VALUE=DATE:20250727
DTSTAMP:20260421T102230
CREATED:20250721T123205Z
LAST-MODIFIED:20250721T123205Z
UID:31025-1753401600-1753574399@rincondeademuz.info
SUMMARY:Fiestas de Verano en Los Santos (Castielfabib) - 25-26 de julio de 2025
DESCRIPTION:
URL:https://rincondeademuz.info/event/fiestas-de-verano-en-los-santos-castielfabib-25-26-de-julio-de-2025/
CATEGORIES:Castielfabib,Rincón de Ademuz
ATTACH;FMTTYPE=image/jpeg:https://rincondeademuz.info/wp-content/uploads/2025/07/FIESTAS-DE-LOS-SANTOS-25-26-JULIO.jpg
END:VEVENT
BEGIN:VEVENT
DTSTART;VALUE=DATE:20250726
DTEND;VALUE=DATE:20250727
DTSTAMP:20260421T102230
CREATED:20250721T122707Z
LAST-MODIFIED:20250721T123303Z
UID:31023-1753488000-1753574399@rincondeademuz.info
SUMMARY:II Encuentro Interprovincial Cruz de los Tres Reinos - 26 de julio de 2025 - Arroyo Cerezo (Castielfabib)
DESCRIPTION:
URL:https://rincondeademuz.info/event/ii-encuentro-interprovincial-cruz-de-los-tres-reinos-26-de-julio-de-2025-arroyo-cerezo-castielfabib/
CATEGORIES:Castielfabib,Rincón de Ademuz
ATTACH;FMTTYPE=image/jpeg:https://rincondeademuz.info/wp-content/uploads/2025/07/II-ENCUENTRO-INTERPROVINCIAL-DE-LOS-3-REINOS-CASTIELFABIB-26-DE-JULIO.jpg
END:VEVENT
END:VCALENDAR