BEGIN:VCALENDAR
VERSION:2.0
PRODID:-// - ECPv6.8.1//NONSGML v1.0//EN
CALSCALE:GREGORIAN
METHOD:PUBLISH
X-ORIGINAL-URL:https://rincondeademuz.info
X-WR-CALDESC:Eventos para 
REFRESH-INTERVAL;VALUE=DURATION:PT1H
X-Robots-Tag:noindex
X-PUBLISHED-TTL:PT1H
BEGIN:VTIMEZONE
TZID:Europe/Madrid
BEGIN:DAYLIGHT
TZOFFSETFROM:+0100
TZOFFSETTO:+0200
TZNAME:CEST
DTSTART:20250330T010000
END:DAYLIGHT
BEGIN:STANDARD
TZOFFSETFROM:+0200
TZOFFSETTO:+0100
TZNAME:CET
DTSTART:20251026T010000
END:STANDARD
END:VTIMEZONE
BEGIN:VEVENT
DTSTART;VALUE=DATE:20250801
DTEND;VALUE=DATE:20250807
DTSTAMP:20260423T114458
CREATED:20250725T080034Z
LAST-MODIFIED:20250725T080051Z
UID:31303-1754006400-1754524799@rincondeademuz.info
SUMMARY:Fiestas del Salvador en Casas Bajas - Del 1 al 6 de agosto de 2025
DESCRIPTION:
URL:https://rincondeademuz.info/event/fiestas-del-salvador-en-casas-bajas-del-1-al-6-de-agosto-de-2025/
CATEGORIES:Casas Bajas,Rincón de Ademuz
ATTACH;FMTTYPE=image/jpeg:https://rincondeademuz.info/wp-content/uploads/2025/07/FIESTAS-DEL-SALVADOR-CASAS-BAJAS-1-6-AGOSTO.jpg
END:VEVENT
BEGIN:VEVENT
DTSTART;VALUE=DATE:20250802
DTEND;VALUE=DATE:20250803
DTSTAMP:20260423T114458
CREATED:20250725T103620Z
LAST-MODIFIED:20250725T105035Z
UID:31307-1754092800-1754179199@rincondeademuz.info
SUMMARY:Virgen de los Ángeles Patrona de Vallanca - 2 de agosto de 2025
DESCRIPTION:
URL:https://rincondeademuz.info/event/virgen-de-los-angeles-patrona-de-vallanca-2-de-agosto-de-2025/
CATEGORIES:Rincón de Ademuz,Vallanca
ATTACH;FMTTYPE=image/jpeg:https://rincondeademuz.info/wp-content/uploads/2025/07/VIRGEN-DE-LOS-ANGELES-VALLANCA-2-DE-AGOSTO.jpg
END:VEVENT
BEGIN:VEVENT
DTSTART;VALUE=DATE:20250807
DTEND;VALUE=DATE:20250817
DTSTAMP:20260423T114458
CREATED:20250725T105602Z
LAST-MODIFIED:20250725T105602Z
UID:31310-1754524800-1755388799@rincondeademuz.info
SUMMARY:Fiestas de verano en Casas Altas- Del 7 al 16 de agosto de 2025
DESCRIPTION: 
URL:https://rincondeademuz.info/event/fiestas-de-verano-en-casas-altas-del-7-al-16-de-agosto-de-2025/
CATEGORIES:Casas Altas,Rincón de Ademuz
ATTACH;FMTTYPE=image/jpeg:https://rincondeademuz.info/wp-content/uploads/2025/07/FIESTAS-CASAS-ALTAS-7-16-AGOSTO.jpg
END:VEVENT
BEGIN:VEVENT
DTSTART;VALUE=DATE:20250808
DTEND;VALUE=DATE:20250811
DTSTAMP:20260423T114458
CREATED:20250725T111537Z
LAST-MODIFIED:20250725T111537Z
UID:31318-1754611200-1754870399@rincondeademuz.info
SUMMARY:Fiestas Cuesta del Rato (Castielfabib) - Del 8 al 10 de Agosto de 2025
DESCRIPTION:
URL:https://rincondeademuz.info/event/fiestas-cuesta-del-rato-castielfabib-del-8-al-10-de-agosto-de-2025/
CATEGORIES:Castielfabib,Rincón de Ademuz
ATTACH;FMTTYPE=image/jpeg:https://rincondeademuz.info/wp-content/uploads/2025/07/FIESTAS-DE-CUESTA-DEL-RATO-8-10-AGOSTO-scaled.jpg
END:VEVENT
BEGIN:VEVENT
DTSTART;VALUE=DATE:20250808
DTEND;VALUE=DATE:20250811
DTSTAMP:20260423T114458
CREATED:20250801T124916Z
LAST-MODIFIED:20250801T124916Z
UID:31651-1754611200-1754870399@rincondeademuz.info
SUMMARY:Fiestas de Negrón - Del 8 al 10 de agosto de 2025
DESCRIPTION:
URL:https://rincondeademuz.info/event/fiestas-de-negron-del-8-al-10-de-agosto-de-2025/
CATEGORIES:Rincón de Ademuz,Vallanca
ATTACH;FMTTYPE=image/jpeg:https://rincondeademuz.info/wp-content/uploads/2025/08/FIESTAS-NEGRON.jpg
END:VEVENT
BEGIN:VEVENT
DTSTART;VALUE=DATE:20250808
DTEND;VALUE=DATE:20250818
DTSTAMP:20260423T114458
CREATED:20250728T112347Z
LAST-MODIFIED:20250728T112347Z
UID:31362-1754611200-1755475199@rincondeademuz.info
SUMMARY:Fiestas de Ademuz - Del 8 al 17 de agosto de 2025
DESCRIPTION:
URL:https://rincondeademuz.info/event/fiestas-de-ademuz-del-8-al-17-de-agosto-de-2025/
CATEGORIES:Ademuz,Rincón de Ademuz
ATTACH;FMTTYPE=image/jpeg:https://rincondeademuz.info/wp-content/uploads/2025/07/16-FIESTAS-DE-ADEMUZ-1.jpg
END:VEVENT
BEGIN:VEVENT
DTSTART;VALUE=DATE:20250811
DTEND;VALUE=DATE:20250818
DTSTAMP:20260423T114458
CREATED:20250617T080611Z
LAST-MODIFIED:20250617T080611Z
UID:29773-1754870400-1755475199@rincondeademuz.info
SUMMARY:Semana Cultural Casas Bajas 11\, 14\, 16 y 17 de Agosto de 2025
DESCRIPTION:
URL:https://rincondeademuz.info/event/semana-cultural-casas-bajas-11-14-16-y-17-de-agosto-de-2025/
CATEGORIES:Casas Bajas,Rincón de Ademuz
ATTACH;FMTTYPE=image/jpeg:https://rincondeademuz.info/wp-content/uploads/2025/06/SEMANA-CULTURAL-CASAS-BAJAS-1.jpg
END:VEVENT
BEGIN:VEVENT
DTSTART;VALUE=DATE:20250812
DTEND;VALUE=DATE:20250813
DTSTAMP:20260423T114458
CREATED:20250805T113051Z
LAST-MODIFIED:20250805T113051Z
UID:31895-1754956800-1755043199@rincondeademuz.info
SUMMARY:Fiestas en Mas de Jacinto (Castielfabib) -12 de agosto de 2025
DESCRIPTION:
URL:https://rincondeademuz.info/event/fiestas-en-mas-de-jacinto-castielfabib-12-de-agosto-de-2025/
CATEGORIES:Castielfabib,Rincón de Ademuz
ATTACH;FMTTYPE=image/jpeg:https://rincondeademuz.info/wp-content/uploads/2025/08/FIESTAS-MAS-DE-JACINTO-12.08.2025.jpg
END:VEVENT
BEGIN:VEVENT
DTSTART;VALUE=DATE:20250813
DTEND;VALUE=DATE:20250818
DTSTAMP:20260423T114458
CREATED:20250728T112606Z
LAST-MODIFIED:20250728T112606Z
UID:31371-1755043200-1755475199@rincondeademuz.info
SUMMARY:Fiestas patronales San Roque en Vallanca- Del 13 al 17 de agosto de 2025
DESCRIPTION:
URL:https://rincondeademuz.info/event/fiestas-patronales-san-roque-en-vallanca-del-13-al-17-de-agosto-de-2025/
CATEGORIES:Rincón de Ademuz,Vallanca
ATTACH;FMTTYPE=image/jpeg:https://rincondeademuz.info/wp-content/uploads/2025/07/18-FIESTAS-VERANO-VALLANCA-13-17-AGOSTO.jpg
END:VEVENT
BEGIN:VEVENT
DTSTART;VALUE=DATE:20250815
DTEND;VALUE=DATE:20250818
DTSTAMP:20260423T114458
CREATED:20250728T112957Z
LAST-MODIFIED:20250728T112957Z
UID:31374-1755216000-1755475199@rincondeademuz.info
SUMMARY:Fiestas en Arroyo Cerezo - Del 15 al 17 de agosto de 2025
DESCRIPTION:
URL:https://rincondeademuz.info/event/fiestas-en-arroyo-cerezo-del-15-al-17-de-agosto-de-2025/
CATEGORIES:Castielfabib,Rincón de Ademuz
ATTACH;FMTTYPE=image/jpeg:https://rincondeademuz.info/wp-content/uploads/2025/07/19-CARTEL-FIESTAS-2025-ARROYO-CEREZO_.jpg
END:VEVENT
BEGIN:VEVENT
DTSTART;VALUE=DATE:20250816
DTEND;VALUE=DATE:20250820
DTSTAMP:20260423T114458
CREATED:20250728T113249Z
LAST-MODIFIED:20250728T113249Z
UID:31377-1755302400-1755647999@rincondeademuz.info
SUMMARY:Fiestas de verano en Castielfabib - Del 16 al 19 de agosto de 2025
DESCRIPTION:
URL:https://rincondeademuz.info/event/fiestas-de-verano-en-castielfabib-del-16-al-19-de-agosto-de-2025/
CATEGORIES:Castielfabib,Rincón de Ademuz
ATTACH;FMTTYPE=image/jpeg:https://rincondeademuz.info/wp-content/uploads/2025/07/21-FIESTAS-DE-CASTIELFABIB-16-19-AGOSTO.jpg
END:VEVENT
BEGIN:VEVENT
DTSTART;VALUE=DATE:20250816
DTEND;VALUE=DATE:20250826
DTSTAMP:20260423T114458
CREATED:20250711T124803Z
LAST-MODIFIED:20250711T124803Z
UID:31008-1755302400-1756166399@rincondeademuz.info
SUMMARY:Fiestas patronales Torrebaja - del 16 al 25 de agosto de 2025
DESCRIPTION:
URL:https://rincondeademuz.info/event/fiestas-patronales-torrebaja-del-16-al-25-de-agosto-de-2025/
CATEGORIES:Rincón de Ademuz,Torrebaja
ATTACH;FMTTYPE=image/jpeg:https://rincondeademuz.info/wp-content/uploads/2025/07/FIESTAS-SANTA-MARINA-MELONERA-TORREBAJA.jpg
END:VEVENT
BEGIN:VEVENT
DTSTART;VALUE=DATE:20250829
DTEND;VALUE=DATE:20250831
DTSTAMP:20260423T114458
CREATED:20250728T113437Z
LAST-MODIFIED:20250728T113437Z
UID:31380-1756425600-1756598399@rincondeademuz.info
SUMMARY:Noche de las Hachas en Castielfabib - Del 29 al 30 de agosto de 2025
DESCRIPTION:
URL:https://rincondeademuz.info/event/noche-de-las-hachas-en-castielfabib-del-29-al-30-de-agosto-de-2025/
CATEGORIES:Castielfabib,Rincón de Ademuz
ATTACH;FMTTYPE=image/jpeg:https://rincondeademuz.info/wp-content/uploads/2025/07/22-NOCHE-DE-LAS-HACHAS-29-30-AGOSTO-CASTIELFABIB.jpg
END:VEVENT
END:VCALENDAR